BEGIN:VCALENDAR
VERSION:2.0
PRODID:-//wp-events-plugin.com//7.2.3.1//EN
BEGIN:VEVENT
UID:5@borasjudo.se
DTSTART:20250611T163000Z
DTEND:20250611T173000Z
DTSTAMP:20250617T125040Z
URL:https://www.borasjudo.se/events/bn1-slut/
SUMMARY:BN1 Slut
DESCRIPTION:Barn nybörjare 1 sista träning för våren 2025
CATEGORIES:Träning
END:VEVENT
END:VCALENDAR