BEGIN:VCALENDAR
VERSION:2.0
PRODID:-//wp-events-plugin.com//7.2.3.1//EN
BEGIN:VEVENT
UID:70@borasjudo.se
DTSTART;TZID=Europe/Stockholm:20251215T173000
DTEND;TZID=Europe/Stockholm:20251215T183000
DTSTAMP:20250804T200000Z
URL:https://www.borasjudo.se/events/bn1-slut-2/
SUMMARY:BN1 Slut
DESCRIPTION:Barn Nybörjare 1 med Mikael Sedvall slut hösten 2025
CATEGORIES:Träning
END:VEVENT
BEGIN:VTIMEZONE
TZID:Europe/Stockholm
X-LIC-LOCATION:Europe/Stockholm
BEGIN:STANDARD
DTSTART:20251026T020000
TZOFFSETFROM:+0200
TZOFFSETTO:+0100
TZNAME:CET
END:STANDARD
END:VTIMEZONE
END:VCALENDAR