BEGIN:VCALENDAR
VERSION:2.0
PRODID:-//wp-events-plugin.com//7.2.3.1//EN
BEGIN:VEVENT
UID:45@borasjudo.se
DTSTART;TZID=Europe/Stockholm:20250304T180000
DTEND;TZID=Europe/Stockholm:20250304T210000
DTSTAMP:20250618T163527Z
URL:https://www.borasjudo.se/events/bjk-tranarmote/
SUMMARY:BJK Tränarmöte
DESCRIPTION:Samtliga tränare möts på mattan ombytta för att diskutera t
 ekniker och metoder för våren 2025
CATEGORIES:Möte
END:VEVENT
BEGIN:VTIMEZONE
TZID:Europe/Stockholm
X-LIC-LOCATION:Europe/Stockholm
BEGIN:STANDARD
DTSTART:20241027T020000
TZOFFSETFROM:+0200
TZOFFSETTO:+0100
TZNAME:CET
END:STANDARD
END:VTIMEZONE
END:VCALENDAR