BEGIN:VCALENDAR
VERSION:2.0
PRODID:-//wp-events-plugin.com//7.2.3.1//EN
BEGIN:VEVENT
UID:38@borasjudo.se
DTSTART;TZID=Europe/Stockholm;VALUE=DATE:20250616
DTEND;TZID=Europe/Stockholm;VALUE=DATE:20250621
DTSTAMP:20250618T130036Z
URL:https://www.borasjudo.se/events/bjk-sommarskola/
SUMMARY:BJK Sommarskola
DESCRIPTION:Hej barn och föräldrar i Borås judoklubb! Veckan 25 (16-20/6
 ) anordnas BJK's Sommarskola!\n\nDär får era barn möjligheten att umgå
 s med sina träningskompisar\, göra aktiviteter samt träna judo tillsamm
 ans!\n\nMer information finns på klubben!\n\nAnmälan görs via anmälnin
 gsformulär som är uppsatt i dojon eller till info@borasjudo.se SENAST 3J
 UNI!\n\nVi ses väl där?\n\nVälkomna!
CATEGORIES:Läger
END:VEVENT
BEGIN:VTIMEZONE
TZID:Europe/Stockholm
X-LIC-LOCATION:Europe/Stockholm
BEGIN:DAYLIGHT
DTSTART:20250330T030000
TZOFFSETFROM:+0100
TZOFFSETTO:+0200
TZNAME:CEST
END:DAYLIGHT
END:VTIMEZONE
END:VCALENDAR