BEGIN:VCALENDAR
VERSION:2.0
PRODID:-//wp-events-plugin.com//7.2.3.1//EN
BEGIN:VEVENT
UID:44@borasjudo.se
DTSTART;TZID=Europe/Stockholm:20250223T140000
DTEND;TZID=Europe/Stockholm:20250223T160000
DTSTAMP:20250618T162920Z
URL:https://www.borasjudo.se/events/bjk-arsmote/
SUMMARY:BJK Årsmöte
DESCRIPTION:https://www.borasjudo.se/2024/12/26/arsmote-2025/
CATEGORIES:Möte
END:VEVENT
BEGIN:VTIMEZONE
TZID:Europe/Stockholm
X-LIC-LOCATION:Europe/Stockholm
BEGIN:STANDARD
DTSTART:20241027T020000
TZOFFSETFROM:+0200
TZOFFSETTO:+0100
TZNAME:CET
END:STANDARD
END:VTIMEZONE
END:VCALENDAR