BEGIN:VCALENDAR
VERSION:2.0
PRODID:-//wp-events-plugin.com//7.2.3.1//EN
BEGIN:VEVENT
UID:149@borasjudo.se
DTSTART;TZID=Europe/Stockholm:20260110T140000
DTEND;TZID=Europe/Stockholm:20260110T220000
DTSTAMP:20251211T152350Z
URL:https://www.borasjudo.se/events/bhc-match-8/
SUMMARY:BHC Match
DESCRIPTION:
CATEGORIES:BHC
END:VEVENT
BEGIN:VTIMEZONE
TZID:Europe/Stockholm
X-LIC-LOCATION:Europe/Stockholm
BEGIN:STANDARD
DTSTART:20251026T020000
TZOFFSETFROM:+0200
TZOFFSETTO:+0100
TZNAME:CET
END:STANDARD
END:VTIMEZONE
END:VCALENDAR