BEGIN:VCALENDAR
VERSION:2.0
PRODID:-//wp-events-plugin.com//7.2.3.1//EN
BEGIN:VEVENT
UID:151@borasjudo.se
DTSTART;TZID=Europe/Stockholm:20260201T120000
DTEND;TZID=Europe/Stockholm:20260201T220000
DTSTAMP:20251211T152511Z
URL:https://www.borasjudo.se/events/bhc-match-10/
SUMMARY:BHC Match
DESCRIPTION:
CATEGORIES:BHC
END:VEVENT
BEGIN:VTIMEZONE
TZID:Europe/Stockholm
X-LIC-LOCATION:Europe/Stockholm
BEGIN:STANDARD
DTSTART:20251026T020000
TZOFFSETFROM:+0200
TZOFFSETTO:+0100
TZNAME:CET
END:STANDARD
END:VTIMEZONE
END:VCALENDAR