BEGIN:VCALENDAR
VERSION:2.0
PRODID:-//wp-events-plugin.com//7.2.3.1//EN
BEGIN:VEVENT
UID:15@borasjudo.se
DTSTART;TZID=Europe/Stockholm:20250821T173000
DTEND;TZID=Europe/Stockholm:20250821T185500
DTSTAMP:20250804T205810Z
URL:https://www.borasjudo.se/events/bf-start/
SUMMARY:BF 1+2 start
DESCRIPTION:Barn Fortsättning 1 och 2 start hösten 2025
CATEGORIES:Träning
END:VEVENT
BEGIN:VTIMEZONE
TZID:Europe/Stockholm
X-LIC-LOCATION:Europe/Stockholm
BEGIN:DAYLIGHT
DTSTART:20250330T030000
TZOFFSETFROM:+0100
TZOFFSETTO:+0200
TZNAME:CEST
END:DAYLIGHT
END:VTIMEZONE
END:VCALENDAR