BEGIN:VCALENDAR
VERSION:2.0
PRODID:-//wp-events-plugin.com//7.2.3.1//EN
BEGIN:VEVENT
UID:2@borasjudo.se
DTSTART:20250605T163000Z
DTEND:20250605T173000Z
DTSTAMP:20250617T124919Z
URL:https://www.borasjudo.se/events/bf-sista-traning/
SUMMARY:BF Slut
DESCRIPTION:Barn fortsättning 1 och 2 sista träning för våren 2025
CATEGORIES:Träning
END:VEVENT
END:VCALENDAR