BEGIN:VCALENDAR
VERSION:2.0
PRODID:-//wp-events-plugin.com//7.2.3.1//EN
BEGIN:VEVENT
UID:72@borasjudo.se
DTSTART;TZID=Europe/Stockholm:20251218T173000
DTEND;TZID=Europe/Stockholm:20251218T185500
DTSTAMP:20250804T205907Z
URL:https://www.borasjudo.se/events/bf-12-slut/
SUMMARY:BF 1+2 slut
DESCRIPTION:Barn Fortsättning 1 och 2 slut hösten 2025
CATEGORIES:Träning
END:VEVENT
BEGIN:VTIMEZONE
TZID:Europe/Stockholm
X-LIC-LOCATION:Europe/Stockholm
BEGIN:STANDARD
DTSTART:20251026T020000
TZOFFSETFROM:+0200
TZOFFSETTO:+0100
TZNAME:CET
END:STANDARD
END:VTIMEZONE
END:VCALENDAR